BEGIN:VCALENDAR
VERSION:2.0
PRODID:-//Summerland Amateur Radio Club - ECPv4.7.0.1//NONSGML v1.0//EN
CALSCALE:GREGORIAN
METHOD:PUBLISH
X-WR-CALNAME:Summerland Amateur Radio Club
X-ORIGINAL-URL:http://sarc.org.au
X-WR-CALDESC:Events for Summerland Amateur Radio Club
BEGIN:VEVENT
DTSTART;TZID=UTC+10:20190310T130000
DTEND;TZID=UTC+10:20190310T160000
DTSTAMP:20190227T113900
CREATED:20190124T225418Z
LAST-MODIFIED:20190124T225418Z
UID:2376-1552222800-1552233600@sarc.org.au
SUMMARY:COMMITTEE MEETING
DESCRIPTION:All welcome. \n
URL:http://sarc.org.au/event/committee-meeting-2/
LOCATION:SARC HQ\, 412 Richmond Hill Road\, Richmond Hill\, NSW\, Australia
END:VEVENT
BEGIN:VEVENT
DTSTART;TZID=UTC+11:20190316T120000
DTEND;TZID=UTC+11:20190317T120000
DTSTAMP:20190227T113900
CREATED:20190124T225241Z
LAST-MODIFIED:20190124T225241Z
UID:2374-1552737600-1552824000@sarc.org.au
SUMMARY:JOHN MOYLE FIELD DAY CONTEST
DESCRIPTION:See the WIA website for the Rules – http://www.wia.org.au/members/contests/johnmoyle/ \n
URL:http://sarc.org.au/event/john-moyle-field-day-contest/
LOCATION:NSW
END:VEVENT
BEGIN:VEVENT
DTSTART;TZID=UTC+10:20190414T100000
DTEND;TZID=UTC+10:20190414T110000
DTSTAMP:20190227T113900
CREATED:20190221T062849Z
LAST-MODIFIED:20190221T063001Z
UID:2418-1555236000-1555239600@sarc.org.au
SUMMARY:WICEN NR AGM
DESCRIPTION:The Annual General Meeting of WICEN NSW Northern Rivers Region will be held on April 14\, 2019 at the clubrooms of the Summerland ARC\, commencing at 10 am. The principal agenda item will be a motion to close down the region. \n
URL:http://sarc.org.au/event/wicen-nr-agm/
LOCATION:SARC HQ\, 412 Richmond Hill Road\, Richmond Hill\, NSW\, Australia
END:VEVENT
BEGIN:VEVENT
DTSTART;TZID=UTC+10:20190414T130000
DTEND;TZID=UTC+10:20190414T160000
DTSTAMP:20190227T113900
CREATED:20190221T063115Z
LAST-MODIFIED:20190221T063225Z
UID:2420-1555246800-1555257600@sarc.org.au
SUMMARY:COMMITTEE MEETING
DESCRIPTION:All welcome. At the clubrooms\, commencing at 1300 hours. \n
URL:http://sarc.org.au/event/committee-meeting/
LOCATION:SARC HQ\, 412 Richmond Hill Road\, Richmond Hill\, NSW\, Australia
END:VEVENT
END:VCALENDAR