BEGIN:VCALENDAR
VERSION:2.0
PRODID:-//Summerland Amateur Radio Club - ECPv5.0.0//NONSGML v1.0//EN
CALSCALE:GREGORIAN
METHOD:PUBLISH
X-WR-CALNAME:Summerland Amateur Radio Club
X-ORIGINAL-URL:http://sarc.org.au
X-WR-CALDESC:Events for Summerland Amateur Radio Club
BEGIN:VTIMEZONE
TZID:UTC
BEGIN:STANDARD
TZOFFSETFROM:+0000
TZOFFSETTO:+0000
TZNAME:UTC
DTSTART:20200101T000000
END:STANDARD
END:VTIMEZONE
BEGIN:VEVENT
DTSTART;TZID=UTC:20200321T120000
DTEND;TZID=UTC:20200322T120000
DTSTAMP:20200302T074228
CREATED:20200220T133413Z
LAST-MODIFIED:20200220T133413Z
UID:3182-1584792000-1584878400@sarc.org.au
SUMMARY:JOHN MOYLE FIELD DAY
DESCRIPTION:It is expected that SARC will again take part as a 24 hour portable station in the Field Day. At this stage the location is not known. The preferred spot at Vista Point is closed to March 30. \n
URL:http://sarc.org.au/event/john-moyle-field-day/
END:VEVENT
END:VCALENDAR