BEGIN:VCALENDAR
VERSION:2.0
PRODID:-//Summerland Amateur Radio Club - ECPv5.0.0//NONSGML v1.0//EN
CALSCALE:GREGORIAN
METHOD:PUBLISH
X-WR-CALNAME:Summerland Amateur Radio Club
X-ORIGINAL-URL:http://sarc.org.au
X-WR-CALDESC:Events for Summerland Amateur Radio Club
BEGIN:VTIMEZONE
TZID:Europe/Paris
BEGIN:DAYLIGHT
TZOFFSETFROM:+0100
TZOFFSETTO:+0200
TZNAME:CEST
DTSTART:20200329T010000
END:DAYLIGHT
BEGIN:STANDARD
TZOFFSETFROM:+0200
TZOFFSETTO:+0100
TZNAME:CET
DTSTART:20201025T010000
END:STANDARD
END:VTIMEZONE
BEGIN:VEVENT
DTSTART;TZID=Europe/Paris:20200308T130000
DTEND;TZID=Europe/Paris:20200308T160000
DTSTAMP:20200302T074158
CREATED:20200128T061219Z
LAST-MODIFIED:20200206T115033Z
UID:3152-1583672400-1583683200@sarc.org.au
SUMMARY:COMMITTEE MEETING
DESCRIPTION:After the AGM.  All welcome. \n
URL:http://sarc.org.au/event/committee-meeting/
LOCATION:SARC HQ\, 412 Richmond Hill Road\, Richmond Hill\, NSW\, Australia
END:VEVENT
END:VCALENDAR